BEGIN:VCALENDAR
VERSION:2.0
PRODID:SchoolNow
CALSCALE:GREGORIAN
BEGIN:VEVENT
UID:92e7b906-97c0-11e9-bb1b-0aaf447912f2
DTSTAMP:20190626T031456Z
SUMMARY:Pops Concert
URL;VALUE=URI:https://www.bereanchristian.com/calendar/2013077/pops-concert
DTSTART:20191006T020000Z
DTEND:20191006T040000Z
END:VEVENT
END:VCALENDAR
