BEGIN:VCALENDAR
VERSION:2.0
PRODID:SchoolNow
CALSCALE:GREGORIAN
BEGIN:VEVENT
UID:e75038de-87d4-11e9-9a0a-12c88321b25a
DTSTAMP:20190626T042421Z
SUMMARY:Graduation at Golden Hills Community Church
URL;VALUE=URI:https://www.bereanchristian.com/calendar/1997577/bchs-graduat
 ion-golden-hills-community-church-brentwood-ca
DTSTART:20200523T020000Z
DTEND:20200523T040000Z
END:VEVENT
END:VCALENDAR
