BEGIN:VCALENDAR
VERSION:2.0
PRODID:SchoolNow
CALSCALE:GREGORIAN
BEGIN:VEVENT
UID:a779876a-87d4-11e9-8b2c-12c88321b25a
DTSTAMP:20190626T042335Z
SUMMARY:Last Day of School + Student Checkout
URL;VALUE=URI:https://www.bereanchristian.com/calendar/1997576/student-chec
 k-out
DTSTART:20200521T171500Z
DTEND:20200521T190000Z
END:VEVENT
END:VCALENDAR
