BEGIN:VCALENDAR
VERSION:2.0
PRODID:SchoolNow
CALSCALE:GREGORIAN
BEGIN:VEVENT
UID:7e07dcd8-87d4-11e9-85a1-12c88321b25a
DTSTAMP:20190626T042255Z
SUMMARY:Finals
URL;VALUE=URI:https://www.bereanchristian.com/calendar/1997575/finals
DTSTART:20200518T153000Z
DTEND:20200521T170000Z
END:VEVENT
END:VCALENDAR
