BEGIN:VCALENDAR
VERSION:2.0
PRODID:SchoolNow
CALSCALE:GREGORIAN
BEGIN:VEVENT
UID:a9479402-87d3-11e9-8bfe-12a22a871562
DTSTAMP:20190626T042230Z
SUMMARY:Baccalaureate at NorthCreek Church
URL;VALUE=URI:https://www.bereanchristian.com/calendar/1997573/bchs-baccala
 ureate-northcreek-walnut-creek-ca
DTSTART:20200517T220000Z
DTEND:20200518T000000Z
END:VEVENT
END:VCALENDAR
