BEGIN:VCALENDAR
VERSION:2.0
PRODID:SchoolNow
CALSCALE:GREGORIAN
BEGIN:VEVENT
UID:8201cb6a-87d3-11e9-af3a-12a22a871562
DTSTAMP:20190626T042123Z
SUMMARY:Senior Chapel + Senior Checkout
URL;VALUE=URI:https://www.bereanchristian.com/calendar/1997571/senior-chape
 l-senior-check-out
DTSTART:20200515T153000Z
DTEND:20200515T212500Z
END:VEVENT
END:VCALENDAR
