BEGIN:VCALENDAR
VERSION:2.0
PRODID:SchoolNow
CALSCALE:GREGORIAN
BEGIN:VEVENT
UID:63ca1e90-87d3-11e9-bd35-12a22a871562
DTSTAMP:20190626T042041Z
SUMMARY:Awards Ceremony
URL;VALUE=URI:https://www.bereanchristian.com/calendar/1997570/awards-cerem
 ony
DTSTART:20200512T020000Z
DTEND:20200512T040000Z
END:VEVENT
END:VCALENDAR
