BEGIN:VCALENDAR
VERSION:2.0
PRODID:SchoolNow
CALSCALE:GREGORIAN
BEGIN:VEVENT
UID:3e47d7fc-87d3-11e9-8857-12a22a871562
DTSTAMP:20190626T041940Z
SUMMARY:2019-2020 Yearbook Reveal
URL;VALUE=URI:https://www.bereanchristian.com/calendar/1997569/2019-2020-ye
 arbook-reveal
DTSTART:20200511T153000Z
DTEND:20200511T220000Z
END:VEVENT
END:VCALENDAR
