BEGIN:VCALENDAR
VERSION:2.0
PRODID:SchoolNow
CALSCALE:GREGORIAN
BEGIN:VEVENT
UID:0c95055e-87d3-11e9-835a-12a22a871562
DTSTAMP:20190626T042011Z
SUMMARY:Senior iPad Retrieval
URL;VALUE=URI:https://www.bereanchristian.com/calendar/1997568/senior-ipad-
 retrieval
DTSTART:20200511T153000Z
DTEND:20200511T220000Z
END:VEVENT
END:VCALENDAR
