BEGIN:VCALENDAR
VERSION:2.0
PRODID:SchoolNow
CALSCALE:GREGORIAN
BEGIN:VEVENT
UID:eb0c18fa-87d2-11e9-8bb4-12a22a871562
DTSTAMP:20190626T153204Z
SUMMARY:Spring Concert
URL;VALUE=URI:https://www.bereanchristian.com/calendar/1997567/spring-conce
 rt
DTSTART:20200509T020000Z
DTEND:20200509T040000Z
END:VEVENT
END:VCALENDAR
