BEGIN:VCALENDAR
VERSION:2.0
PRODID:SchoolNow
CALSCALE:GREGORIAN
BEGIN:VEVENT
UID:c4103d80-87d2-11e9-a1eb-12a22a871562
DTSTAMP:20190626T042154Z
SUMMARY:AP Exams
URL;VALUE=URI:https://www.bereanchristian.com/calendar/1997566/ap-exams
DTSTART:20200511T144500Z
DTEND:20200515T223000Z
END:VEVENT
END:VCALENDAR
