BEGIN:VCALENDAR
VERSION:2.0
PRODID:SchoolNow
CALSCALE:GREGORIAN
BEGIN:VEVENT
UID:97a34774-87d2-11e9-828d-120710a54232
DTSTAMP:20190626T041743Z
SUMMARY:AP Exams
URL;VALUE=URI:https://www.bereanchristian.com/calendar/1997565/ap-exams
DTSTART:20200504T144500Z
DTEND:20200508T223000Z
END:VEVENT
END:VCALENDAR
