BEGIN:VCALENDAR
VERSION:2.0
PRODID:SchoolNow
CALSCALE:GREGORIAN
BEGIN:VEVENT
UID:5d2f0c68-87d2-11e9-9608-120710a54232
DTSTAMP:20190626T041817Z
SUMMARY:Incoming Freshman Math Assessments
URL;VALUE=URI:https://www.bereanchristian.com/calendar/1997564/freshman-mat
 hh-assessments
DTSTART:20200509T150000Z
DTEND:20200509T190000Z
END:VEVENT
END:VCALENDAR
