BEGIN:VCALENDAR
VERSION:2.0
PRODID:SchoolNow
CALSCALE:GREGORIAN
BEGIN:VEVENT
UID:2f5f8010-87d2-11e9-abb3-120710a54232
DTSTAMP:20190626T041653Z
SUMMARY:Incoming Freshman Math Assessments
URL;VALUE=URI:https://www.bereanchristian.com/calendar/1997562/freshman-mat
 h-assessments
DTSTART:20200502T150000Z
DTEND:20200502T190000Z
END:VEVENT
END:VCALENDAR
