BEGIN:VCALENDAR
VERSION:2.0
PRODID:SchoolNow
CALSCALE:GREGORIAN
BEGIN:VEVENT
UID:cb991866-87d1-11e9-a305-120710a54232
DTSTAMP:20190626T041457Z
SUMMARY:Performing Arts Production
URL;VALUE=URI:https://www.bereanchristian.com/calendar/1997561/bchs-perform
 ing-arts-presents
DTSTART:20200502T020000Z
DTEND:20200502T040000Z
END:VEVENT
END:VCALENDAR
