BEGIN:VCALENDAR
VERSION:2.0
PRODID:SchoolNow
CALSCALE:GREGORIAN
BEGIN:VEVENT
UID:adc5b16a-87d0-11e9-9a15-0ab4b0876c40
DTSTAMP:20190626T041042Z
SUMMARY:Junior Senior Banquet
URL;VALUE=URI:https://www.bereanchristian.com/calendar/1997560/junior-senio
 r-banquet-jsb
DTSTART:20200426T010000Z
DTEND:20200426T040000Z
END:VEVENT
END:VCALENDAR
