BEGIN:VCALENDAR
VERSION:2.0
PRODID:SchoolNow
CALSCALE:GREGORIAN
BEGIN:VEVENT
UID:cd8994f4-87cf-11e9-ad11-0ab4b0876c40
DTSTAMP:20190626T152951Z
SUMMARY:Debate Tournament
LOCATION:LFA State
URL;VALUE=URI:https://www.bereanchristian.com/calendar/1997557/debate-tourn
 ament-lfa-state
DTSTART:20200424T220000Z
DTEND:20200426T000000Z
END:VEVENT
END:VCALENDAR
