BEGIN:VCALENDAR
VERSION:2.0
PRODID:SchoolNow
CALSCALE:GREGORIAN
BEGIN:VEVENT
UID:d51570ea-87ce-11e9-95aa-12c88321b25a
DTSTAMP:20190626T041008Z
SUMMARY:Model UN
LOCATION:Foothill High School in Pleasanton\, CA
URL;VALUE=URI:https://www.bereanchristian.com/calendar/1997556/model-un-foo
 thill-hs-pleasanton-ca
DTSTART:20200417T153000Z
DTEND:20200418T000000Z
END:VEVENT
END:VCALENDAR
