BEGIN:VCALENDAR
VERSION:2.0
PRODID:SchoolNow
CALSCALE:GREGORIAN
BEGIN:VEVENT
UID:90bf906a-87ce-11e9-b220-12c88321b25a
DTSTAMP:20190626T040915Z
SUMMARY:Classes Resume
URL;VALUE=URI:https://www.bereanchristian.com/calendar/1997555/classes-resu
 me
DTSTART:20200414T153000Z
DTEND:20200414T220000Z
END:VEVENT
END:VCALENDAR
