BEGIN:VCALENDAR
VERSION:2.0
PRODID:SchoolNow
CALSCALE:GREGORIAN
BEGIN:VEVENT
UID:79bdf9c4-87ce-11e9-b9ba-12c88321b25a
DTSTAMP:20190626T040837Z
SUMMARY:Spring Break
URL;VALUE=URI:https://www.bereanchristian.com/calendar/1997554/spring-break
DTSTART:20200406T153000Z
DTEND:20200413T220000Z
END:VEVENT
END:VCALENDAR
