BEGIN:VCALENDAR
VERSION:2.0
PRODID:SchoolNow
CALSCALE:GREGORIAN
BEGIN:VEVENT
UID:5fe594ee-87ce-11e9-9c50-12c88321b25a
DTSTAMP:20190626T040742Z
SUMMARY:Debate Tournament
LOCATION:Sacramento\, CA
URL;VALUE=URI:https://www.bereanchristian.com/calendar/1997553/debate-tourn
 ament-sacramento-ca
DTSTART:20200404T150000Z
DTEND:20200405T000000Z
END:VEVENT
END:VCALENDAR
