BEGIN:VCALENDAR
VERSION:2.0
PRODID:SchoolNow
CALSCALE:GREGORIAN
BEGIN:VEVENT
UID:405aabf0-87ce-11e9-90f0-12c88321b25a
DTSTAMP:20190626T040458Z
SUMMARY:Improv Night
URL;VALUE=URI:https://www.bereanchristian.com/calendar/1997552/improv-night
DTSTART:20200321T020000Z
DTEND:20200321T040000Z
END:VEVENT
END:VCALENDAR
