BEGIN:VCALENDAR
VERSION:2.0
PRODID:SchoolNow
CALSCALE:GREGORIAN
BEGIN:VEVENT
UID:21ba38a0-87ce-11e9-a5c6-12c88321b25a
DTSTAMP:20190626T041148Z
SUMMARY:Shakespeare Trip to Ashland
LOCATION:Ashland\, Oregon
URL;VALUE=URI:https://www.bereanchristian.com/calendar/1997551/shakespeare-
 trip-ashland-or
DTSTART:20200319T223000Z
DTEND:20200323T000000Z
END:VEVENT
END:VCALENDAR
