BEGIN:VCALENDAR
VERSION:2.0
PRODID:SchoolNow
CALSCALE:GREGORIAN
BEGIN:VEVENT
UID:fe372712-87cd-11e9-80ec-12c88321b25a
DTSTAMP:20200224T200606Z
SUMMARY:Class of 2024 Parents and Students Social
URL;VALUE=URI:https://www.bereanchristian.com/calendar/1997550/new-freshmen
 -family-social
DTSTART:20200319T010000Z
DTEND:20200319T030000Z
END:VEVENT
END:VCALENDAR
