BEGIN:VCALENDAR
VERSION:2.0
PRODID:SchoolNow
CALSCALE:GREGORIAN
BEGIN:VEVENT
UID:8bbcd43e-87cd-11e9-be95-12c88321b25a
DTSTAMP:20190626T040432Z
SUMMARY:Fourth Quarter Begins
URL;VALUE=URI:https://www.bereanchristian.com/calendar/1997549/begin-4th-qu
 arter
DTSTART:20200316T153000Z
DTEND:20200316T220000Z
END:VEVENT
END:VCALENDAR
