BEGIN:VCALENDAR
VERSION:2.0
PRODID:SchoolNow
CALSCALE:GREGORIAN
BEGIN:VEVENT
UID:284307f2-87cd-11e9-a82e-12c88321b25a
DTSTAMP:20190626T040335Z
SUMMARY:Third Quarter Ends
URL;VALUE=URI:https://www.bereanchristian.com/calendar/1997545/end-of-3rd-q
 uarter
DTSTART:20200313T153000Z
DTEND:20200313T212500Z
END:VEVENT
END:VCALENDAR
