BEGIN:VCALENDAR
VERSION:2.0
PRODID:SchoolNow
CALSCALE:GREGORIAN
BEGIN:VEVENT
UID:dc031d78-87cc-11e9-868b-12c88321b25a
DTSTAMP:20190626T040257Z
SUMMARY:Model UN
LOCATION:Berkeley\, CA
URL;VALUE=URI:https://www.bereanchristian.com/calendar/1997544/model-un-ber
 keley-ca
DTSTART:20200306T230000Z
DTEND:20200308T230000Z
END:VEVENT
END:VCALENDAR
