BEGIN:VCALENDAR
VERSION:2.0
PRODID:SchoolNow
CALSCALE:GREGORIAN
BEGIN:VEVENT
UID:b080dbb8-87cc-11e9-af90-12c88321b25a
DTSTAMP:20200224T174724Z
SUMMARY:Reflection: A Night of Dramatic One Acts
URL;VALUE=URI:https://www.bereanchristian.com/calendar/1997543/one-acts-pre
 sented-by-advanced-drama
DTSTART:20200229T030000Z
DTEND:20200229T040000Z
END:VEVENT
END:VCALENDAR
