BEGIN:VCALENDAR
VERSION:2.0
PRODID:SchoolNow
CALSCALE:GREGORIAN
BEGIN:VEVENT
UID:65836e6e-87cc-11e9-80a5-12c88321b25a
DTSTAMP:20190626T035940Z
SUMMARY:Debate Tournament
LOCATION:California Crosspoint Academy in Hayward\, CA
URL;VALUE=URI:https://www.bereanchristian.com/calendar/1997542/debate-tourn
 ament-california-crosspoint-academy-hayward-ca
DTSTART:20200222T160000Z
DTEND:20200223T010000Z
END:VEVENT
END:VCALENDAR
