BEGIN:VCALENDAR
VERSION:2.0
PRODID:SchoolNow
CALSCALE:GREGORIAN
BEGIN:VEVENT
UID:32ae3c6c-87cc-11e9-9bd7-12c88321b25a
DTSTAMP:20200117T170513Z
SUMMARY:Junior Class Social @ QZAR
URL;VALUE=URI:https://www.bereanchristian.com/calendar/1997541/junior-class
 -social
DTSTART:20200223T030000Z
DTEND:20200223T050000Z
END:VEVENT
END:VCALENDAR
