BEGIN:VCALENDAR
VERSION:2.0
PRODID:SchoolNow
CALSCALE:GREGORIAN
BEGIN:VEVENT
UID:e1ab08cc-87cb-11e9-8c0a-12c88321b25a
DTSTAMP:20200130T174128Z
SUMMARY:Senior Class Social\, Downtown WC scavenger hunt & ice cream outing
URL;VALUE=URI:https://www.bereanchristian.com/calendar/1997540/senior-class
 -social
DTSTART:20200222T020000Z
DTEND:20200222T050000Z
END:VEVENT
END:VCALENDAR
