BEGIN:VCALENDAR
VERSION:2.0
PRODID:SchoolNow
CALSCALE:GREGORIAN
BEGIN:VEVENT
UID:9216756e-87c9-11e9-bcd8-0a90fe54c7e6
DTSTAMP:20190605T193902Z
SUMMARY:Astronomy Field Trip
URL;VALUE=URI:https://www.bereanchristian.com/calendar/1997526/astronomy-fi
 eld-trip
DTSTART:20200221T163000Z
DTEND:20200221T222500Z
END:VEVENT
END:VCALENDAR
