BEGIN:VCALENDAR
VERSION:2.0
PRODID:SchoolNow
CALSCALE:GREGORIAN
BEGIN:VEVENT
UID:7090622e-87c9-11e9-ae2a-0a90fe54c7e6
DTSTAMP:20190605T193805Z
SUMMARY:Chorale Tour
URL;VALUE=URI:https://www.bereanchristian.com/calendar/1997521/chorale-tour
DTSTART:20200212T163000Z
DTEND:20200216T230000Z
END:VEVENT
END:VCALENDAR
