BEGIN:VCALENDAR
VERSION:2.0
PRODID:SchoolNow
CALSCALE:GREGORIAN
BEGIN:VEVENT
UID:017d0630-87c9-11e9-8a2e-0a90fe54c7e6
DTSTAMP:20190626T035501Z
SUMMARY:Debate Tournament
LOCATION:Pacific Bay Christian School in Pacifica\, CA
URL;VALUE=URI:https://www.bereanchristian.com/calendar/1997514/debate-tourn
 ament-pacific-bay-christian-pacifica-ca
DTSTART:20200201T160000Z
DTEND:20200202T010000Z
END:VEVENT
END:VCALENDAR
