BEGIN:VCALENDAR
VERSION:2.0
PRODID:SchoolNow
CALSCALE:GREGORIAN
BEGIN:VEVENT
UID:bdfa7140-87c8-11e9-a50c-0a90fe54c7e6
DTSTAMP:20200121T173822Z
SUMMARY:Freshman Class Social @ Sky High \, Concord
URL;VALUE=URI:https://www.bereanchristian.com/calendar/1997495/freshman-cla
 ss-social
DTSTART:20200209T030000Z
DTEND:20200209T050000Z
END:VEVENT
END:VCALENDAR
