BEGIN:VCALENDAR
VERSION:2.0
PRODID:SchoolNow
CALSCALE:GREGORIAN
BEGIN:VEVENT
UID:a691a672-87c8-11e9-b43b-0a90fe54c7e6
DTSTAMP:20200115T195334Z
SUMMARY:Sophomore Class Social\, The Escape Room @ Veranda\, Concord
URL;VALUE=URI:https://www.bereanchristian.com/calendar/1997494/sophomore-cl
 ass-social
DTSTART:20200208T030000Z
DTEND:20200208T050000Z
END:VEVENT
END:VCALENDAR
