BEGIN:VCALENDAR
VERSION:2.0
PRODID:SchoolNow
CALSCALE:GREGORIAN
BEGIN:VEVENT
UID:8acba870-87c8-11e9-8930-0a90fe54c7e6
DTSTAMP:20190625T192342Z
SUMMARY:College Night
LOCATION:Student Center
URL;VALUE=URI:https://www.bereanchristian.com/calendar/1997493/college-nigh
 t
DTSTART:20200207T030000Z
DTEND:20200207T041500Z
END:VEVENT
END:VCALENDAR
