BEGIN:VCALENDAR
VERSION:2.0
PRODID:SchoolNow
CALSCALE:GREGORIAN
BEGIN:VEVENT
UID:f715877a-87c4-11e9-a24b-0a1dabc242fe
DTSTAMP:20190626T042809Z
SUMMARY:Third Quarter Midterm
URL;VALUE=URI:https://www.bereanchristian.com/calendar/1997291/3rd-quarter-
 mid-term
DTSTART:20200205T163000Z
DTEND:20200205T230000Z
END:VEVENT
END:VCALENDAR
