BEGIN:VCALENDAR
VERSION:2.0
PRODID:SchoolNow
CALSCALE:GREGORIAN
BEGIN:VEVENT
UID:bf94969e-87c2-11e9-af3c-0a1dabc242fe
DTSTAMP:20200123T001624Z
SUMMARY:Open House
URL;VALUE=URI:https://www.bereanchristian.com/calendar/1997287/bchs-open-ho
 use
DTSTART:20200124T020000Z
DTEND:20200124T033000Z
END:VEVENT
END:VCALENDAR
