BEGIN:VCALENDAR
VERSION:2.0
PRODID:SchoolNow
CALSCALE:GREGORIAN
BEGIN:VEVENT
UID:74e85454-8700-11e9-ab5c-0a6b6ee6d2d8
DTSTAMP:20190604T193924Z
SUMMARY:Berean Christian Girls Softball Camp
URL;VALUE=URI:https://www.bereanchristian.com/calendar/1996655/berean-chris
 tian-girls-softball-camp
DTSTART:20190618T160000Z
DTEND:20190618T220000Z
END:VEVENT
END:VCALENDAR
