BEGIN:VCALENDAR
VERSION:2.0
PRODID:SchoolNow
CALSCALE:GREGORIAN
BEGIN:VEVENT
UID:ba85286c-86ff-11e9-a04a-0a6b6ee6d2d8
DTSTAMP:20190604T193411Z
SUMMARY:Berean Christian Girls Soccer Camp
URL;VALUE=URI:https://www.bereanchristian.com/calendar/1996559/berean-chris
 tian-girls-soccer-camp
DTSTART:20190612T160000Z
DTEND:20190612T190000Z
END:VEVENT
END:VCALENDAR
