BEGIN:VCALENDAR
VERSION:2.0
PRODID:SchoolNow
CALSCALE:GREGORIAN
BEGIN:VEVENT
UID:dce63b70-86fb-11e9-901d-125dc7123b0a
DTSTAMP:20190604T190631Z
SUMMARY:Homecoming Banquet
URL;VALUE=URI:https://www.bereanchristian.com/calendar/1996480/homecoming-b
 anquet
DTSTART:20191027T010000Z
DTEND:20191027T040000Z
END:VEVENT
END:VCALENDAR
