BEGIN:VCALENDAR
VERSION:2.0
PRODID:SchoolNow
CALSCALE:GREGORIAN
BEGIN:VEVENT
UID:7717a8b0-86fb-11e9-82ab-125dc7123b0a
DTSTAMP:20190625T190337Z
SUMMARY:PSAT Testing (No School for Seniors)
URL;VALUE=URI:https://www.bereanchristian.com/calendar/1996478/psat-testing
 -seniors-off-campus
DTSTART:20191016T153000Z
DTEND:20191016T190000Z
END:VEVENT
END:VCALENDAR
