BEGIN:VCALENDAR
VERSION:2.0
PRODID:SchoolNow
CALSCALE:GREGORIAN
BEGIN:VEVENT
UID:d3f2827c-86fa-11e9-a6ae-0a92fb970960
DTSTAMP:20190626T030908Z
SUMMARY:Second Quarter Begins
URL;VALUE=URI:https://www.bereanchristian.com/calendar/1996477/2nd-quarter-
 begins
DTSTART:20191014T153000Z
DTEND:20191014T220000Z
END:VEVENT
END:VCALENDAR
