BEGIN:VCALENDAR
VERSION:2.0
PRODID:SchoolNow
CALSCALE:GREGORIAN
BEGIN:VEVENT
UID:062fa8e2-86fa-11e9-bd9e-0a6d75beb4d8
DTSTAMP:20190625T185055Z
SUMMARY:SAT Workshop
LOCATION:Classroom D-5
URL;VALUE=URI:https://www.bereanchristian.com/calendar/1996476/act-workshop
 -classroom-d-5
DTSTART:20191012T160000Z
DTEND:20191012T220000Z
END:VEVENT
END:VCALENDAR
