BEGIN:VCALENDAR
VERSION:2.0
PRODID:SchoolNow
CALSCALE:GREGORIAN
BEGIN:VEVENT
UID:be4197f8-86f8-11e9-b2fd-0a0a7e2ba870
DTSTAMP:20190625T203956Z
SUMMARY:First Quarter Ends
URL;VALUE=URI:https://www.bereanchristian.com/calendar/1996474/end-of-first
 -quarter
DTSTART:20191011T153000Z
DTEND:20191011T212500Z
END:VEVENT
END:VCALENDAR
