BEGIN:VCALENDAR
VERSION:2.0
PRODID:SchoolNow
CALSCALE:GREGORIAN
BEGIN:VEVENT
UID:f68aab50-86f7-11e9-a271-0a0a7e2ba870
DTSTAMP:20190626T031421Z
SUMMARY:Pops Concert
URL;VALUE=URI:https://www.bereanchristian.com/calendar/1996471/pops-concert
DTSTART:20191005T020000Z
DTEND:20191005T040000Z
END:VEVENT
END:VCALENDAR
