BEGIN:VCALENDAR
VERSION:2.0
PRODID:SchoolNow
CALSCALE:GREGORIAN
BEGIN:VEVENT
UID:d71a26b0-86f7-11e9-b9d5-0a0a7e2ba870
DTSTAMP:20190625T185319Z
SUMMARY:College Essay Workshop
LOCATION:Classroom A-1
URL;VALUE=URI:https://www.bereanchristian.com/calendar/1996470/college-essa
 y-workshop-classroom-a-1
DTSTART:20191002T214500Z
DTEND:20191002T231500Z
END:VEVENT
END:VCALENDAR
