BEGIN:VCALENDAR
VERSION:2.0
PRODID:SchoolNow
CALSCALE:GREGORIAN
BEGIN:VEVENT
UID:68ad8ff0-86f7-11e9-920f-12aeaa41206e
DTSTAMP:20190626T151027Z
SUMMARY:PSAT Workshop
LOCATION:Classroom D-5
URL;VALUE=URI:https://www.bereanchristian.com/calendar/1996469/psat-worksho
 p-classroom-d-5
DTSTART:20191002T214500Z
DTEND:20191002T234500Z
END:VEVENT
END:VCALENDAR
