BEGIN:VCALENDAR
VERSION:2.0
PRODID:SchoolNow
CALSCALE:GREGORIAN
BEGIN:VEVENT
UID:26f2c616-86f7-11e9-8d5a-12aeaa41206e
DTSTAMP:20190625T191928Z
SUMMARY:ACSI Conference for Staff - NO SCHOOL
URL;VALUE=URI:https://www.bereanchristian.com/calendar/1996468/no-school-ac
 si-conference-for-bchs-staff
DTSTART:20190926T150000Z
DTEND:20190927T220000Z
END:VEVENT
END:VCALENDAR
